BEGIN:VCALENDAR
VERSION:2.0
PRODID:-//Associazione Graffiti
CALSCALE:GREGORIAN
METHOD:PUBLISH
X-WR-CALNAME:Associazione Graffiti
X-ORIGINAL-URL:https://graffitiscuola.it/event/mostra-fotografica-primi-impatti-inaugurazione-sabato-2-febbraio-2019-ore-18/
X-WR-CALDESC:Mostra Fotografica &#8220;PRIMI IMPATTI&#8221; &#8211; Inaugurazione Sabato 2 febbraio 2019 ore 18
BEGIN:VEVENT
DTSTART:
DTEND:
SUMMARY:Mostra Fotografica &#8220;PRIMI IMPATTI&#8221; &#8211; Inaugurazione Sabato 2 febbraio 2019 ore 18
DESCRIPTION:
LOCATION:Via Latina 515
END:VEVENT
END:VCALENDAR
