BEGIN:VCALENDAR
VERSION:2.0
PRODID:-//Associazione Graffiti
CALSCALE:GREGORIAN
METHOD:PUBLISH
X-WR-CALNAME:Associazione Graffiti
X-ORIGINAL-URL:https://graffitiscuola.it/event/visita-guidata-gratuita-mostra-fotografica-paolo-pellegrin-unantologia-domenica-10-marzo-2019-ore-17/
X-WR-CALDESC:Visita guidata gratuita: Mostra Fotografica &#8220;Paolo Pellegrin. Un&#8217;antologia &#8211; Domenica 10 marzo 2019 ore 17
BEGIN:VEVENT
DTSTART:
DTEND:
SUMMARY:Visita guidata gratuita: Mostra Fotografica &#8220;Paolo Pellegrin. Un&#8217;antologia &#8211; Domenica 10 marzo 2019 ore 17
DESCRIPTION:Visita guidata gratuita a cura del Direttore della Graffiti Gianni Pinnizzotto alla Mostra Fotografica "Paolo Pellegrin. Un'antologia" - Domenica 10 marzo 2019 ore 17
LOCATION:MAXXI - Via Guido Reni, 4/A Roma
END:VEVENT
END:VCALENDAR
