BEGIN:VCALENDAR
VERSION:2.0
PRODID:-//Associazione Graffiti
CALSCALE:GREGORIAN
METHOD:PUBLISH
X-WR-CALNAME:Associazione Graffiti
X-ORIGINAL-URL:https://graffitiscuola.it/event/seminario-masterclass-di-gianni-pinnizzotto-larchitettura-di-un-reportage-giovedi-17-gennaio-2019/
X-WR-CALDESC:Seminario/Masterclass di Gianni Pinnizzotto &#8220;L&#8217;Architettura di un Reportage&#8221; &#8211; Giovedì 17 gennaio 2019
BEGIN:VEVENT
DTSTART:
DTEND:
SUMMARY:Seminario/Masterclass di Gianni Pinnizzotto &#8220;L&#8217;Architettura di un Reportage&#8221; &#8211; Giovedì 17 gennaio 2019
DESCRIPTION:Seminario/Masterclass di Gianni Pinnizzotto "L'Architettura di un Reportage" - Giovedì 17 gennaio 2019
Palazzo Merulana - Roma
LOCATION:Via Merulana, 121
END:VEVENT
END:VCALENDAR
