BEGIN:VCALENDAR
VERSION:2.0
PRODID:-//Associazione Graffiti
CALSCALE:GREGORIAN
METHOD:PUBLISH
X-WR-CALNAME:Associazione Graffiti
X-ORIGINAL-URL:https://graffitiscuola.it/event/libro-fotografico-roma-tra-luci-e-ombre-di-autori-vari-edizione-graffiti/
X-WR-CALDESC:Libro Fotografico &#8220;ROMA &#8211; Tra luci e ombre&#8221; di Autori Vari &#8211; Edizione Graffiti
BEGIN:VEVENT
DTSTART:
DTEND:
SUMMARY:Libro Fotografico &#8220;ROMA &#8211; Tra luci e ombre&#8221; di Autori Vari &#8211; Edizione Graffiti
DESCRIPTION:Libro fotografico "ROMA - Tra luci e ombre" di Autori Vari - Edizione Graffiti
LOCATION:
END:VEVENT
END:VCALENDAR
