BEGIN:VCALENDAR
VERSION:2.0
PRODID:-//Associazione Graffiti
CALSCALE:GREGORIAN
METHOD:PUBLISH
X-WR-CALNAME:Associazione Graffiti
X-ORIGINAL-URL:https://graffitiscuola.it/event/presentazione-libro-fotografico-roma-tra-luci-e-ombre-di-autori-vari-sabato-15-dicembre-2018-ore-18/
X-WR-CALDESC:Presentazione libro fotografico &#8220;ROMA &#8211; Tra luci e ombre&#8221; di Autori Vari &#8211; Sabato 15 dicembre 2018 ore 18
BEGIN:VEVENT
DTSTART:
DTEND:
SUMMARY:Presentazione libro fotografico &#8220;ROMA &#8211; Tra luci e ombre&#8221; di Autori Vari &#8211; Sabato 15 dicembre 2018 ore 18
DESCRIPTION:Presentazione libro fotografico "ROMA - Tra luci e ombre" di Autori Vari - Sabato 15 dicembre 2018 ore 18
LOCATION:Piazza Venezia, 11 Roma
END:VEVENT
END:VCALENDAR
