BEGIN:VCALENDAR
VERSION:2.0
PRODID:-//Associazione Graffiti
CALSCALE:GREGORIAN
METHOD:PUBLISH
X-WR-CALNAME:Associazione Graffiti
X-ORIGINAL-URL:https://graffitiscuola.it/event/presentazione-libro-fotografico-immagin-ando-di-marco-rossi-martedi-4-dicembre-2018-ore-18/
X-WR-CALDESC:Presentazione Libro Fotografico: “IMMAGIN-ANDO&#8221; di Marco Rossi &#8211; Martedì 4 dicembre 2018 ore 18
BEGIN:VEVENT
DTSTART:
DTEND:
SUMMARY:Presentazione Libro Fotografico: “IMMAGIN-ANDO&#8221; di Marco Rossi &#8211; Martedì 4 dicembre 2018 ore 18
DESCRIPTION:Presentazione Ultimo Libro Fotografico edito da Graffiti: 
“IMMAGIN-ANDO" di Marco Rossi
Martedì 4 dicembre 2018 ore 18 - PDE Bookstore Palazzo delle Esposizioni Roma
LOCATION:PDE Bookstore Palazzo delle Esposozioni - Via Milano, 15/17, Roma
END:VEVENT
END:VCALENDAR
