BEGIN:VCALENDAR
VERSION:2.0
PRODID:-//Associazione Graffiti
CALSCALE:GREGORIAN
METHOD:PUBLISH
X-WR-CALNAME:Associazione Graffiti
X-ORIGINAL-URL:https://graffitiscuola.it/event/workshop-fotografico-visita-mostra-fotografica-w-ronis-e-la-citta-di-venezia-7-9-dicembre-2018/
X-WR-CALDESC:Workshop Fotografico: Visita mostra fotografica W. Ronis e la città di Venezia 7/9 dicembre 2018
BEGIN:VEVENT
DTSTART:
DTEND:
SUMMARY:Workshop Fotografico: Visita mostra fotografica W. Ronis e la città di Venezia 7/9 dicembre 2018
DESCRIPTION:Workshop Fotografico: 
Visita mostra fotografica W. Ronis e la città di Venezia
7/9 dicembre 2018
LOCATION:Via Latina 515
END:VEVENT
END:VCALENDAR
