BEGIN:VCALENDAR
VERSION:2.0
PRODID:-//Associazione Graffiti
CALSCALE:GREGORIAN
METHOD:PUBLISH
X-WR-CALNAME:Associazione Graffiti
X-ORIGINAL-URL:https://graffitiscuola.it/event/mostra-fotografica-professione-reporter-inaugurazione-sabato-17-novembre-2018-ore-18/
X-WR-CALDESC:Mostra Fotografica &#8220;Professione Reporter&#8221; &#8211; Inaugurazione Sabato 17 novembre 2018 ore 18
BEGIN:VEVENT
DTSTART:
DTEND:
SUMMARY:Mostra Fotografica &#8220;Professione Reporter&#8221; &#8211; Inaugurazione Sabato 17 novembre 2018 ore 18
DESCRIPTION:Mostra Fotografica "Professione Reporter"- Allievi Corso Reportage
Inaugurazione Sabato 17 novembre 2018 ore 18
- Ingresso libero -
LOCATION:Via Latina 515
END:VEVENT
END:VCALENDAR
