BEGIN:VCALENDAR
VERSION:2.0
PRODID:-//Associazione Graffiti
CALSCALE:GREGORIAN
METHOD:PUBLISH
X-WR-CALNAME:Associazione Graffiti
X-ORIGINAL-URL:https://graffitiscuola.it/event/mostra-fotografica-opium-di-emiliano-pinnizzotto-human-rights-international-film-festival-di-orvieto/
X-WR-CALDESC:Mostra Fotografica &#8220;OPIUM&#8221; di Emiliano Pinnizzotto &#8211; Human Rights International Film Festival di Orvieto
BEGIN:VEVENT
DTSTART:
DTEND:
SUMMARY:Mostra Fotografica &#8220;OPIUM&#8221; di Emiliano Pinnizzotto &#8211; Human Rights International Film Festival di Orvieto
DESCRIPTION:Mostra Fotografica "OPIUM" di Emiliano Pinnizzotto 
Human Rights International Film Festival di Orvieto
Palazzo del Popolo - Sala Etrusca
Dal 31 ottobre al 4 novembre 2018
LOCATION:Orvieto - Piazza del Popolo
END:VEVENT
END:VCALENDAR
