BEGIN:VCALENDAR
VERSION:2.0
PRODID:-//Associazione Graffiti
CALSCALE:GREGORIAN
METHOD:PUBLISH
X-WR-CALNAME:Associazione Graffiti
X-ORIGINAL-URL:https://graffitiscuola.it/event/inaugurazione-mostra-darte-mirabanart-showcase-sabato-6-ottobre-2018/
X-WR-CALDESC:Inaugurazione Mostra d&#8217;Arte MiraBanART Showcase &#8211; Sabato 6 ottobre 2018
BEGIN:VEVENT
DTSTART:
DTEND:
SUMMARY:Inaugurazione Mostra d&#8217;Arte MiraBanART Showcase &#8211; Sabato 6 ottobre 2018
DESCRIPTION:Mostra d'Arte Contemporanea
MiraBanART Showcase 
dal 6 al 20 ottobre 2018
LOCATION:Via Latina 515
END:VEVENT
END:VCALENDAR
