BEGIN:VCALENDAR
VERSION:2.0
PRODID:-//Associazione Graffiti
CALSCALE:GREGORIAN
METHOD:PUBLISH
X-WR-CALNAME:Associazione Graffiti
X-ORIGINAL-URL:https://graffitiscuola.it/event/mostra-fotografica-racconti-un-altro-mondo-simone-rota-lima-peru/
X-WR-CALDESC:Mostra Fotografica &#8220;Racconti da un altro mondo&#8221; di Simone Rota a Lima (Perù)
BEGIN:VEVENT
DTSTART:20180911T000000
DTEND:
SUMMARY:Mostra Fotografica &#8220;Racconti da un altro mondo&#8221; di Simone Rota a Lima (Perù)
DESCRIPTION:Mostra Fotografica "Racconti da un altro mondo" di Simone Rota
tratta dall'omonimo libro fotografico edito da Graffiti
Lima, Perù - 11 settembre 2018
LOCATION:Av. Arequipa 1055 – Santa Beatriz – Lima  (Perù)
END:VEVENT
END:VCALENDAR
