BEGIN:VCALENDAR
VERSION:2.0
PRODID:-//Associazione Graffiti
CALSCALE:GREGORIAN
METHOD:PUBLISH
X-WR-CALNAME:Associazione Graffiti
X-ORIGINAL-URL:https://graffitiscuola.it/event/mostra-fotografica-sottopelle-gallerja/
X-WR-CALDESC:Mostra Fotografica &#8220;SOTTOPELLE&#8221; di Paolo Sollazzo &#8211; Gallerja Roma fino al 6 ottobre 2018
BEGIN:VEVENT
DTSTART:20180611T183000
DTEND:
SUMMARY:Mostra Fotografica &#8220;SOTTOPELLE&#8221; di Paolo Sollazzo &#8211; Gallerja Roma fino al 6 ottobre 2018
DESCRIPTION:Mostra Fotografica: "SOTTOPELLE" di Paolo Sollazzo
fino al 6 ottobre 2018
Gallerja Roma
Via della Lupa, 24 (Fontanella Borghese) - Roma
LOCATION:Via della Lupa, 24 (Fontanella Borghese) Roma
END:VEVENT
END:VCALENDAR
