BEGIN:VCALENDAR
VERSION:2.0
PRODID:-//Associazione Graffiti
CALSCALE:GREGORIAN
METHOD:PUBLISH
X-WR-CALNAME:Associazione Graffiti
X-ORIGINAL-URL:https://graffitiscuola.it/event/weekend-fotografico-workshop-in-toscana-val-dorcia-6-8-luglio-2018/
X-WR-CALDESC:Weekend Fotografico &#8211; Workshop in Toscana &#8211; Val d&#8217;Orcia: 6/8 Luglio 2018
BEGIN:VEVENT
DTSTART:20180706T093000
DTEND:20180708T200000
SUMMARY:Weekend Fotografico &#8211; Workshop in Toscana &#8211; Val d&#8217;Orcia: 6/8 Luglio 2018
DESCRIPTION:Weekend Fotografico - Workshop in Toscana: 6 - 8 luglio 2018

LOCATION:Via Latina, 515
END:VEVENT
END:VCALENDAR
