BEGIN:VCALENDAR
VERSION:2.0
PRODID:-//Associazione Graffiti
CALSCALE:GREGORIAN
METHOD:PUBLISH
X-WR-CALNAME:Associazione Graffiti
X-ORIGINAL-URL:https://graffitiscuola.it/event/workshop-fotografia-le-stazioni-dellarte-napoli-sabato-23-giugno-2018/
X-WR-CALDESC:Workshop Fotografico: &#8220;Le stazioni dell&#8217;arte di Napoli&#8221; &#8211; Sabato 23 giugno 2018
BEGIN:VEVENT
DTSTART:20180623T090000
DTEND:20180623T200000
SUMMARY:Workshop Fotografico: &#8220;Le stazioni dell&#8217;arte di Napoli&#8221; &#8211; Sabato 23 giugno 2018
DESCRIPTION:Workshop di Fotografia: "Le stazioni dell'arte di Napoli"
Sabato 23 giugno 2018
A cura del Direttore della Graffiti Gianni Pinnizzotto
LOCATION:
END:VEVENT
END:VCALENDAR
