BEGIN:VCALENDAR
VERSION:2.0
PRODID:-//Associazione Graffiti
CALSCALE:GREGORIAN
METHOD:PUBLISH
X-WR-CALNAME:Associazione Graffiti
X-ORIGINAL-URL:https://graffitiscuola.it/event/mostra-fotografica-primi-impatti-9-giugno-2018/
X-WR-CALDESC:Mostra Fotografica &#8220;PRIMI IMPATTI&#8221; &#8211; Inaugurazione Sabato 9 giugno 2018 ore 18
BEGIN:VEVENT
DTSTART:20180609T180000
DTEND:20180706T130000
SUMMARY:Mostra Fotografica &#8220;PRIMI IMPATTI&#8221; &#8211; Inaugurazione Sabato 9 giugno 2018 ore 18
DESCRIPTION:MOSTRA FOTOGRAFICA "PRIMI IMPATTI" - Allievi Corso Fotografia Generale (Base+Avanzato)
INGRESSO LIBERO
LOCATION:Via Latina, 515
END:VEVENT
END:VCALENDAR
