BEGIN:VCALENDAR
VERSION:2.0
PRODID:-//Associazione Graffiti
CALSCALE:GREGORIAN
METHOD:PUBLISH
X-WR-CALNAME:Associazione Graffiti
X-ORIGINAL-URL:https://graffitiscuola.it/event/mostra-fotografica-obiettivo-palestina-federico-palmieri/
X-WR-CALDESC:Mostra Fotografica &#8220;OBIETTIVO PALESTINA&#8221; di Federico Palmieri &#8211; Galleria d&#8217;Arte Spazio40
BEGIN:VEVENT
DTSTART:20180518T190000
DTEND:20180527T170000
SUMMARY:Mostra Fotografica &#8220;OBIETTIVO PALESTINA&#8221; di Federico Palmieri &#8211; Galleria d&#8217;Arte Spazio40
DESCRIPTION:Mostra Fotografica: "OBIETTIVO PALESTINA" di Federico Palmieri
18 - 27 Maggio 2018
Galleria d’arte Spazio40
Via dell’Arco di San Calisto 40, Trastevere - Roma
LOCATION:Via dell’Arco di San Calisto 40, Trastevere - Roma
END:VEVENT
END:VCALENDAR
