BEGIN:VCALENDAR
VERSION:2.0
PRODID:-//Associazione Graffiti
CALSCALE:GREGORIAN
METHOD:PUBLISH
X-WR-CALNAME:Associazione Graffiti
X-ORIGINAL-URL:https://graffitiscuola.it/event/inaugurazione-mostra-fotografica-professione-reporter-sabato-12-maggio-2018-ore-18-2/
X-WR-CALDESC:Mostra Fotografica &#8220;PROFESSIONE REPORTER&#8221; &#8211; Maggio 2018
BEGIN:VEVENT
DTSTART:20180512T180000
DTEND:20180524T130000
SUMMARY:Mostra Fotografica &#8220;PROFESSIONE REPORTER&#8221; &#8211; Maggio 2018
DESCRIPTION:Sabato 12 Maggio 2018 ore 18 
INAUGURAZIONE MOSTRA FOTOGRAFICA "PROFESSIONE REPORTER" - Allievi Corso Reportage/Street Photography
INGRESSO LIBERO
LOCATION:Via Latina, 515
END:VEVENT
END:VCALENDAR
