BEGIN:VCALENDAR
VERSION:2.0
PRODID:-//Associazione Graffiti
CALSCALE:GREGORIAN
METHOD:PUBLISH
X-WR-CALNAME:Associazione Graffiti
X-ORIGINAL-URL:https://graffitiscuola.it/event/inaugurazione-mostra-fotografica-advanced-portrait-sabato-28-aprile-2018-ore-18/
X-WR-CALDESC:Mostra Fotografica &#8220;ADVANCED PORTRAIT&#8221; &#8211; Aprile 2018
BEGIN:VEVENT
DTSTART:20180428T180000
DTEND:20180510T130000
SUMMARY:Mostra Fotografica &#8220;ADVANCED PORTRAIT&#8221; &#8211; Aprile 2018
DESCRIPTION:Sabato 28 Aprile 2018 ore 18 
INAUGURAZIONE MOSTRA FOTOGRAFICA "ADVANCED PORTRAIT" - Allievi Corso Avanzato di Ritratto /Studio delle Luci
INGRESSO LIBERO
LOCATION:Via Latina, 515
END:VEVENT
END:VCALENDAR
