BEGIN:VCALENDAR
VERSION:2.0
PRODID:-//Associazione Graffiti
CALSCALE:GREGORIAN
METHOD:PUBLISH
X-WR-CALNAME:Associazione Graffiti
X-ORIGINAL-URL:https://graffitiscuola.it/event/visita-guidata-gratuita-mostra-fotografica-world-press-photo-2018-domenica-6-maggio-2018-ore-11/
X-WR-CALDESC:Visita guidata gratuita: Mostra Fotografica &#8220;World Press Photo 2018&#8221; &#8211; Domenica 6 Maggio 2018 ore 11
BEGIN:VEVENT
DTSTART:20180506T110000
DTEND:20180506T130000
SUMMARY:Visita guidata gratuita: Mostra Fotografica &#8220;World Press Photo 2018&#8221; &#8211; Domenica 6 Maggio 2018 ore 11
DESCRIPTION:Visita guidata gratuita a cura del Direttore della Graffiti Gianni Pinnizzotto alla Mostra Fotografica "World Press Photo 2018" - Domenica 6 maggio 2018 ore 11
LOCATION:Palazzo delle Esposizioni - Via Nazionale, 194 Roma
END:VEVENT
END:VCALENDAR
