BEGIN:VCALENDAR
VERSION:2.0
PRODID:-//Associazione Graffiti
CALSCALE:GREGORIAN
METHOD:PUBLISH
X-WR-CALNAME:Associazione Graffiti
X-ORIGINAL-URL:https://graffitiscuola.it/event/viaggio-fotografico-settembre-2018-peru/
X-WR-CALDESC:Workshop/Reportage Fotografico: Perù  29 Agosto &#8211; 13 Settembre 2018
BEGIN:VEVENT
DTSTART:20180829T000000
DTEND:20180913T000000
SUMMARY:Workshop/Reportage Fotografico: Perù  29 Agosto &#8211; 13 Settembre 2018
DESCRIPTION:WORKSHOP / REPORTAGE FOTOGRAFICO IN PERU'
29 Agosto -13 Settembre 2018

LOCATION:
END:VEVENT
END:VCALENDAR
