BEGIN:VCALENDAR
VERSION:2.0
PRODID:-//Associazione Graffiti
CALSCALE:GREGORIAN
METHOD:PUBLISH
X-WR-CALNAME:Associazione Graffiti
X-ORIGINAL-URL:https://graffitiscuola.it/event/presentazione-libro-fotografico-sottopelle-paolo-sollazzo-sabato-21-aprile-2018-ore-18/
X-WR-CALDESC:Presentazione Libro Fotografico: “Sottopelle&#8221; di Paolo Sollazzo &#8211; Sabato 21 aprile 2018 &#8211; ore 18
BEGIN:VEVENT
DTSTART:20180421T180000
DTEND:20180421T200000
SUMMARY:Presentazione Libro Fotografico: “Sottopelle&#8221; di Paolo Sollazzo &#8211; Sabato 21 aprile 2018 &#8211; ore 18
DESCRIPTION:Presentazione Libro Fotografico Graffiti: “SOTTOPELLE” di Paolo Sollazzo
Sabato 21 aprile 2018 ore 18
La Feltrinelli 
Galleria Alberto Sordi - Roma
LOCATION:Galleria Alberto Sordi - Roma
END:VEVENT
END:VCALENDAR
