BEGIN:VCALENDAR
VERSION:2.0
PRODID:-//Associazione Graffiti
CALSCALE:GREGORIAN
METHOD:PUBLISH
X-WR-CALNAME:Associazione Graffiti
X-ORIGINAL-URL:https://graffitiscuola.it/event/escursione-naturalisticafotografica-lago-nemi/
X-WR-CALDESC:Escursione Naturalistica/Fotografica: &#8220;LAGO DI NEMI&#8221;
BEGIN:VEVENT
DTSTART:20180617T083000
DTEND:20180617T163000
SUMMARY:Escursione Naturalistica/Fotografica: &#8220;LAGO DI NEMI&#8221;
DESCRIPTION:ESCURSIONE NATURALISTICA/FOTOGRAFICA: 
"LAGO DI NEMI"
Domenica 17 giugno 2018
LOCATION:
END:VEVENT
END:VCALENDAR
