BEGIN:VCALENDAR
VERSION:2.0
PRODID:-//Associazione Graffiti
CALSCALE:GREGORIAN
METHOD:PUBLISH
X-WR-CALNAME:Associazione Graffiti
X-ORIGINAL-URL:https://graffitiscuola.it/event/escursione-naturalisticafotografica-palo-laziale/
X-WR-CALDESC:Escursione Naturalistica/Fotografica: &#8220;PALO LAZIALE&#8221;
BEGIN:VEVENT
DTSTART:20180520T090000
DTEND:20180520T160000
SUMMARY:Escursione Naturalistica/Fotografica: &#8220;PALO LAZIALE&#8221;
DESCRIPTION:ESCURSIONE NATURALISTICA/FOTOGRAFICA: 
"PALO LAZIALE"
Domenica 20 maggio 2018
LOCATION:
END:VEVENT
END:VCALENDAR
