BEGIN:VCALENDAR
VERSION:2.0
PRODID:-//Associazione Graffiti
CALSCALE:GREGORIAN
METHOD:PUBLISH
X-WR-CALNAME:Associazione Graffiti
X-ORIGINAL-URL:https://graffitiscuola.it/event/escursione-fotografica-canoa-trekking-riserva-naturale-tevere-farfa/
X-WR-CALDESC:Escursione Naturalistica/Fotografica: &#8220;CANOA TREKKING &#8211; RISERVA NATURALE TEVERE FARFA&#8221;
BEGIN:VEVENT
DTSTART:20180422T083000
DTEND:20180322T160000
SUMMARY:Escursione Naturalistica/Fotografica: &#8220;CANOA TREKKING &#8211; RISERVA NATURALE TEVERE FARFA&#8221;
DESCRIPTION:ESCURSIONE NATURALISTICA/FOTOGRAFICA: 
"CANOA TREKKING - RISERVA NATURALE TEVERE FARFA"
Domenica 22 aprile 2018
LOCATION:
END:VEVENT
END:VCALENDAR
