BEGIN:VCALENDAR
VERSION:2.0
PRODID:-//Associazione Graffiti
CALSCALE:GREGORIAN
METHOD:PUBLISH
X-WR-CALNAME:Associazione Graffiti
X-ORIGINAL-URL:https://graffitiscuola.it/event/inaugurazione-mostra-fotografica-primi-impatti-sabato-10-marzo-2018-ore-18/
X-WR-CALDESC:Mostra Fotografica &#8220;PRIMI IMPATTI&#8221; &#8211; Marzo 2018
BEGIN:VEVENT
DTSTART:20180310T180000
DTEND:20180426T130000
SUMMARY:Mostra Fotografica &#8220;PRIMI IMPATTI&#8221; &#8211; Marzo 2018
DESCRIPTION:MOSTRA FOTOGRAFICA "PRIMI IMPATTI" - Allievi Corso Fotografia Generale (Base+Avanzato)
INGRESSO LIBERO
LOCATION:Via Latina, 515
END:VEVENT
END:VCALENDAR
