BEGIN:VCALENDAR
VERSION:2.0
PRODID:-//Associazione Graffiti
CALSCALE:GREGORIAN
METHOD:PUBLISH
X-WR-CALNAME:Associazione Graffiti
X-ORIGINAL-URL:https://graffitiscuola.it/event/inaugurazione-mostra-fotografica-professione-reporter-sabato-24-febbraio-2018-ore-18/
X-WR-CALDESC:Mostra Fotografica &#8220;PROFESSIONE REPORTER&#8221; &#8211; Febbraio 2018
BEGIN:VEVENT
DTSTART:20180224T180000
DTEND:20180308T130000
SUMMARY:Mostra Fotografica &#8220;PROFESSIONE REPORTER&#8221; &#8211; Febbraio 2018
DESCRIPTION:Sabato 24 Febbraio 2018 ore 18 
INAUGURAZIONE MOSTRA FOTOGRAFICA "PROFESSIONE REPORTER" - Allievi Corso Reportage/Street Photography
INGRESSO LIBERO
LOCATION:Via Latina, 515
END:VEVENT
END:VCALENDAR
