BEGIN:VCALENDAR
VERSION:2.0
PRODID:-//Associazione Graffiti
CALSCALE:GREGORIAN
METHOD:PUBLISH
X-WR-CALNAME:Associazione Graffiti
X-ORIGINAL-URL:https://graffitiscuola.it/event/visita-guidata-gratuita-alla-mostra-fotografica-magnum-manifesto-domenica-25-febbraio-2018-ore-11/
X-WR-CALDESC:Visita guidata gratuita alla Mostra Fotografica &#8220;MAGNUM Manifesto&#8221; Domenica 25 febbraio 2018 ore 11
BEGIN:VEVENT
DTSTART:20180225T110000
DTEND:20180225T130000
SUMMARY:Visita guidata gratuita alla Mostra Fotografica &#8220;MAGNUM Manifesto&#8221; Domenica 25 febbraio 2018 ore 11
DESCRIPTION:Visita guidata gratuita alla Mostra Fotografica "MAGNUM Manifesto"
Domenica 25 febbraio 2018 - ore 11
Museo dell'Ara Pacis

LOCATION:Museo dell'Ara Pacis, Roma
END:VEVENT
END:VCALENDAR
