BEGIN:VCALENDAR
VERSION:2.0
PRODID:-//Associazione Graffiti
CALSCALE:GREGORIAN
METHOD:PUBLISH
X-WR-CALNAME:Associazione Graffiti
X-ORIGINAL-URL:https://graffitiscuola.it/event/inaugurazione-mostra-fotografica-portrait-sabato-3-febbraio-2018-ore-18/
X-WR-CALDESC:Mostra Fotografica &#8220;PORTRAIT&#8221; &#8211; Febbraio 2018
BEGIN:VEVENT
DTSTART:20180203T180000
DTEND:20180222T130000
SUMMARY:Mostra Fotografica &#8220;PORTRAIT&#8221; &#8211; Febbraio 2018
DESCRIPTION:Sabato 3 Febbraio 2018 ore 18 
INAUGURAZIONE MOSTRA FOTOGRAFICA "PORTRAIT" - Allievi Corso Ritratto /Studio delle Luci
INGRESSO LIBERO
LOCATION:Via Latina, 515
END:VEVENT
END:VCALENDAR
