BEGIN:VCALENDAR
VERSION:2.0
PRODID:-//Associazione Graffiti
CALSCALE:GREGORIAN
METHOD:PUBLISH
X-WR-CALNAME:Associazione Graffiti
X-ORIGINAL-URL:https://graffitiscuola.it/event/mostra-fotografica-giro-del-mondo-80-escursioni-michele-megna/
X-WR-CALDESC:Mostra Fotografica &#8220;IL GIRO DEL MONDO IN 80 ESCURSIONI&#8221; di Michele Megna
BEGIN:VEVENT
DTSTART:20171216T180000
DTEND:20180125T160000
SUMMARY:Mostra Fotografica &#8220;IL GIRO DEL MONDO IN 80 ESCURSIONI&#8221; di Michele Megna
DESCRIPTION:Mostra Fotografica "IL GIRO DEL MONDO IN 80 GIORNI" di Michele Megna - Graffiti
Inaugurazione Sabato 16 dicembre - ore 18
Dal 16 dicembre 2017 al 25 gennaio 2018
LOCATION:Via Latina, 515
END:VEVENT
END:VCALENDAR
