BEGIN:VCALENDAR
VERSION:2.0
PRODID:-//Associazione Graffiti
CALSCALE:GREGORIAN
METHOD:PUBLISH
X-WR-CALNAME:Associazione Graffiti
X-ORIGINAL-URL:https://graffitiscuola.it/event/visita-guidata-gratuita-mostra-fotografica-leica/
X-WR-CALDESC:Visita guidata gratuita alla Mostra Fotografica &#8220;I GRANDI MAESTRI &#8211; 100 anni di fotografia Leica&#8221; Domenica 17 dicembre 2017 ore 10
BEGIN:VEVENT
DTSTART:20171217T100000
DTEND:20171217T130000
SUMMARY:Visita guidata gratuita alla Mostra Fotografica &#8220;I GRANDI MAESTRI &#8211; 100 anni di fotografia Leica&#8221; Domenica 17 dicembre 2017 ore 10
DESCRIPTION:Visita guidata gratuita alla Mostra Fotografica "I GRANDI MAESTRI - 100 anni di fotografia Leica"
Domenica 17 dicembre 2017 ore 10
Complesso del Vittoriano - Ala Brasini 

LOCATION:Complesso del Vittoriano - Ala Brasini Via di S. Pietro in Carcere, Roma
END:VEVENT
END:VCALENDAR
