BEGIN:VCALENDAR
VERSION:2.0
PRODID:-//Associazione Graffiti
CALSCALE:GREGORIAN
METHOD:PUBLISH
X-WR-CALNAME:Associazione Graffiti
X-ORIGINAL-URL:https://graffitiscuola.it/event/inaugurazione-mostra-fotografica-primi-impatti-sabato-18-novembre-2017-ore-18/
X-WR-CALDESC:Mostra Fotografica &#8220;PRIMI IMPATTI&#8221; &#8211; Novembre 2017
BEGIN:VEVENT
DTSTART:20171118T180000
DTEND:20171214T130000
SUMMARY:Mostra Fotografica &#8220;PRIMI IMPATTI&#8221; &#8211; Novembre 2017
DESCRIPTION:Sabato 18 novembre 2017 ore 18 
INAUGURAZIONE MOSTRA FOTOGRAFICA "PRIMI IMPATTI" - Allievi Corso Fotografia Generale
INGRESSO LIBERO
LOCATION:Via Latina, 515
END:VEVENT
END:VCALENDAR
