BEGIN:VCALENDAR
VERSION:2.0
PRODID:-//Associazione Graffiti
CALSCALE:GREGORIAN
METHOD:PUBLISH
X-WR-CALNAME:Associazione Graffiti
X-ORIGINAL-URL:https://graffitiscuola.it/event/workshop-full-immersion-di-lightroom-sabato-20-gennaio-2018-ore-9-30-17/
X-WR-CALDESC:Workshop Full-immersion di Lightroom &#8211; Sabato 20 gennaio 2018 ore 9.30/17
BEGIN:VEVENT
DTSTART:20180120T093000
DTEND:20180120T170000
SUMMARY:Workshop Full-immersion di Lightroom &#8211; Sabato 20 gennaio 2018 ore 9.30/17
DESCRIPTION:WORKSHOP FULL IMMERSION 
ADOBE LIGHTROOM
Sabato 20 gennaio 2018  - ore 9.30/17 a cura di Luciano Cantarini
LOCATION:Via Latina, 515
END:VEVENT
END:VCALENDAR
