BEGIN:VCALENDAR
VERSION:2.0
PRODID:-//Associazione Graffiti
CALSCALE:GREGORIAN
METHOD:PUBLISH
X-WR-CALNAME:Associazione Graffiti
X-ORIGINAL-URL:https://graffitiscuola.it/event/workshop-fotografico-carnevale-venezia-febbraio/
X-WR-CALDESC:Workshop Fotografico: Il Carnevale di Venezia: 17/18/19 Febbraio 2023
BEGIN:VEVENT
DTSTART:
DTEND:
SUMMARY:Workshop Fotografico: Il Carnevale di Venezia: 17/18/19 Febbraio 2023
DESCRIPTION:Workshop Fotografico: Il Carnevale di Venezia dal 17 al 19 febbraio 2023
Direzione e Docenza: Gianni Pinnizzotto
LOCATION:
END:VEVENT
END:VCALENDAR
