BEGIN:VCALENDAR
VERSION:2.0
PRODID:-//Associazione Graffiti
CALSCALE:GREGORIAN
METHOD:PUBLISH
X-WR-CALNAME:Associazione Graffiti
X-ORIGINAL-URL:https://graffitiscuola.it/event/brindisinatale2017/
X-WR-CALDESC:Brindisi di Natale 2017 &#8211; Sabato 16 dicembre 2017 &#8211; ore 18.00
BEGIN:VEVENT
DTSTART:20171216T180000
DTEND:20171116T210000
SUMMARY:Brindisi di Natale 2017 &#8211; Sabato 16 dicembre 2017 &#8211; ore 18.00
DESCRIPTION:Brindisi di Natale 2017 
con lo Staff Graffiti
Sabato 16 dicembre 2017 - ore 18
LOCATION:Via Latina, 515
END:VEVENT
END:VCALENDAR
