BEGIN:VCALENDAR
VERSION:2.0
PRODID:-//Associazione Graffiti
CALSCALE:GREGORIAN
METHOD:PUBLISH
X-WR-CALNAME:Associazione Graffiti
X-ORIGINAL-URL:https://graffitiscuola.it/event/presentazione-test-gratuito-della-nuova-nikon-d850-graffiti/
X-WR-CALDESC:Presentazione e TEST gratuito della Nuova Nikon D850 in Graffiti &#8211; Giovedì 9 novembre 2017 ore 19.30
BEGIN:VEVENT
DTSTART:20171109T193000
DTEND:20171109T210000
SUMMARY:Presentazione e TEST gratuito della Nuova Nikon D850 in Graffiti &#8211; Giovedì 9 novembre 2017 ore 19.30
DESCRIPTION:PRESENTAZIONE E TEST GRATUITO DELLA NUOVA NIKON D850
Giovedì 9 novembre 2017 ore 19.30

LOCATION:Via Latina, 515
END:VEVENT
END:VCALENDAR
