BEGIN:VCALENDAR
VERSION:2.0
PRODID:-//Associazione Graffiti
CALSCALE:GREGORIAN
METHOD:PUBLISH
X-WR-CALNAME:Associazione Graffiti
X-ORIGINAL-URL:https://graffitiscuola.it/event/mostra-fotografica-dissolvenze-paolo-sollazzo-garden-golf-university/
X-WR-CALDESC:Mostra Fotografica &#8220;DISSOLVENZE&#8221; di Paolo Sollazzo &#8211; Garden Golf University &#8211; Ottobre 2017
BEGIN:VEVENT
DTSTART:20171027T090000
DTEND:20171029T200000
SUMMARY:Mostra Fotografica &#8220;DISSOLVENZE&#8221; di Paolo Sollazzo &#8211; Garden Golf University &#8211; Ottobre 2017
DESCRIPTION:Mostra Fotografica: “DISSOLVENZE” di Paolo Sollazzo
27 - 29 ottobre 2017
Garden Golf University - Orto Botanico  Roma
LOCATION:Gerusalemme
END:VEVENT
END:VCALENDAR
