BEGIN:VCALENDAR
VERSION:2.0
PRODID:-//Associazione Graffiti
CALSCALE:GREGORIAN
METHOD:PUBLISH
X-WR-CALNAME:Associazione Graffiti
X-ORIGINAL-URL:https://graffitiscuola.it/event/mostra-fotografica-imago-graffiti/
X-WR-CALDESC:Rassegna Fotografica &#8220;IMAGO&#8221; Graffiti presso il Museo delle Civiltà &#8211; Museo L. Pigorini &#8211; Fino al 10 dicembre 2017
BEGIN:VEVENT
DTSTART:20171021T170000
DTEND:20171210T190000
SUMMARY:Rassegna Fotografica &#8220;IMAGO&#8221; Graffiti presso il Museo delle Civiltà &#8211; Museo L. Pigorini &#8211; Fino al 10 dicembre 2017
DESCRIPTION:Rassegna Fotografica "IMAGO" Graffiti - presso il Museo delle Civiltà - Museo Luigi Pigorini
Dal 21 ottobre al 10 dicembre 2017
LOCATION:Piazza Guglielmo Marconi, 14 - Roma
END:VEVENT
END:VCALENDAR
