BEGIN:VCALENDAR
VERSION:2.0
PRODID:-//Associazione Graffiti
CALSCALE:GREGORIAN
METHOD:PUBLISH
X-WR-CALNAME:Associazione Graffiti
X-ORIGINAL-URL:https://graffitiscuola.it/event/reportage-fotografico-sicilia-dal-1-al-5-novembre-2017/
X-WR-CALDESC:Reportage Fotografico: &#8220;Tour in Sicilia&#8221; dal 1°al 5 Novembre 2017
BEGIN:VEVENT
DTSTART:20171101T000000
DTEND:20171105T000000
SUMMARY:Reportage Fotografico: &#8220;Tour in Sicilia&#8221; dal 1°al 5 Novembre 2017
DESCRIPTION:Workshop - Reportage Fotografico Graffiti: "Tour in Sicilia" Dal 1°al 5 Novembre 2017
LOCATION:
END:VEVENT
END:VCALENDAR
