BEGIN:VCALENDAR
VERSION:2.0
PRODID:-//Associazione Graffiti
CALSCALE:GREGORIAN
METHOD:PUBLISH
X-WR-CALNAME:Associazione Graffiti
X-ORIGINAL-URL:https://graffitiscuola.it/event/mostra-fotografica-mongolia-taccuino-silenzi-paolo-sollazzo-dal-16-al-30-settembre-2017/
X-WR-CALDESC:Mostra Fotografica &#8220;MONGOLIA &#8211; Taccuino di Silenzi&#8221; di Paolo Sollazzo &#8211; Dal 16 al 30 settembre 2017 &#8211; Inaugurazione Sabato 16 settembre ore 19 (Galleria Minima)
BEGIN:VEVENT
DTSTART:20170916T190000
DTEND:20170930T000000
SUMMARY:Mostra Fotografica &#8220;MONGOLIA &#8211; Taccuino di Silenzi&#8221; di Paolo Sollazzo &#8211; Dal 16 al 30 settembre 2017 &#8211; Inaugurazione Sabato 16 settembre ore 19 (Galleria Minima)
DESCRIPTION:Mostra Fotografica "MONGOLIA - Taccuino di Silenzi" di Paolo Sollazzo - Graffiti
Inaugurazione Sabato 16 settembre ore 19
Dal 16 al 30 settembre 2017
LOCATION:Via del Pellegrino, 18 - Roma
END:VEVENT
END:VCALENDAR
