BEGIN:VCALENDAR
VERSION:2.0
PRODID:-//Associazione Graffiti
CALSCALE:GREGORIAN
METHOD:PUBLISH
X-WR-CALNAME:Associazione Graffiti
X-ORIGINAL-URL:https://graffitiscuola.it/event/viaggioworkshop-fotografico-terra-santa-2024/
X-WR-CALDESC:Workshop Fotografico: Reportage in Terra Santa (Israele e Palestina) &#8211; Pasqua 2024
BEGIN:VEVENT
DTSTART:
DTEND:
SUMMARY:Workshop Fotografico: Reportage in Terra Santa (Israele e Palestina) &#8211; Pasqua 2024
DESCRIPTION:Workshop Fotografico - Pasqua
dal 23 MARZO al 1 APRILE 2024
Reportage in Terra Santa: Israele e Palestina

LOCATION:
END:VEVENT
END:VCALENDAR
