BEGIN:VCALENDAR
VERSION:2.0
PRODID:-//Associazione Graffiti
CALSCALE:GREGORIAN
METHOD:PUBLISH
X-WR-CALNAME:Associazione Graffiti
X-ORIGINAL-URL:https://graffitiscuola.it/event/visita-guidata-gratuita-mostra-fotografica-hollywood-icons-domenica-16-luglio-2017-ore-11/
X-WR-CALDESC:Visita guidata gratuita: Mostra Fotografica &#8220;Hollywood Icons&#8221; &#8211; Domenica 16 Luglio 2017 ore 11
BEGIN:VEVENT
DTSTART:20170716T110000
DTEND:20170716T130000
SUMMARY:Visita guidata gratuita: Mostra Fotografica &#8220;Hollywood Icons&#8221; &#8211; Domenica 16 Luglio 2017 ore 11
DESCRIPTION:Visita guidata gratuita a cura del Direttore della Graffiti Gianni Pinnizzotto alla Mostra Fotografica "Hollywood Icons" - Domenica 16 luglio 2017 ore 11
Palazzo delle Esposizioni - Via Nazionale, 194
LOCATION:Palazzo delle Esposizioni - Via Nazionale, 194
END:VEVENT
END:VCALENDAR
