BEGIN:VCALENDAR
VERSION:2.0
PRODID:-//Associazione Graffiti
CALSCALE:GREGORIAN
METHOD:PUBLISH
X-WR-CALNAME:Associazione Graffiti
X-ORIGINAL-URL:https://graffitiscuola.it/event/visita-guidata-gratuita-mostra-fotografica-alfabeto-fotografico-romano-sabato-24-giugno-2017-ore-15/
X-WR-CALDESC:Visita guidata gratuita: Mostra Fotografica &#8220;Alfabeto Fotografico Romano&#8221; &#8211; Sabato 24 Giugno 2017 ore 15
BEGIN:VEVENT
DTSTART:20170624T150000
DTEND:20170624T170000
SUMMARY:Visita guidata gratuita: Mostra Fotografica &#8220;Alfabeto Fotografico Romano&#8221; &#8211; Sabato 24 Giugno 2017 ore 15
DESCRIPTION:Visita guidata gratuita a cura del Direttore della Graffiti Gianni Pinnizzotto alla Mostra Fotografica "Alfabeto fotografico romano" - Sabato 24 giugno 2017 ore 15
LOCATION:Via Poli, 54
END:VEVENT
END:VCALENDAR
