BEGIN:VCALENDAR
VERSION:2.0
PRODID:-//Associazione Graffiti
CALSCALE:GREGORIAN
METHOD:PUBLISH
X-WR-CALNAME:Associazione Graffiti
X-ORIGINAL-URL:https://graffitiscuola.it/event/reportage-fotografico-tunisia-2026/
X-WR-CALDESC:Reportage Fotografico: &#8220;Alla scoperta della Tunisia&#8221; dal 24 Aprile al 3 Maggio 2026
BEGIN:VEVENT
DTSTART:
DTEND:
SUMMARY:Reportage Fotografico: &#8220;Alla scoperta della Tunisia&#8221; dal 24 Aprile al 3 Maggio 2026
DESCRIPTION:Workshop/Reportage Fotografico
"Alla scoperta della Tunisia"
dal 24 Aprile al 3 Maggio 2026
LOCATION:
END:VEVENT
END:VCALENDAR
