BEGIN:VCALENDAR
VERSION:2.0
PRODID:-//Associazione Graffiti
CALSCALE:GREGORIAN
METHOD:PUBLISH
X-WR-CALNAME:Associazione Graffiti
X-ORIGINAL-URL:https://graffitiscuola.it/event/mostra-fotografica-obiettivo-palestina-federico-palmieri-graffiti/
X-WR-CALDESC:Mostra Fotografica &#8220;OBIETTIVO PALESTINA&#8221; di Federico Palmieri &#8211; Dal 17 giugno al 15 luglio 2017
BEGIN:VEVENT
DTSTART:20170617T180000
DTEND:20170715T130000
SUMMARY:Mostra Fotografica &#8220;OBIETTIVO PALESTINA&#8221; di Federico Palmieri &#8211; Dal 17 giugno al 15 luglio 2017
DESCRIPTION:Mostra Fotografica "OBIETTIVO PALESTINA" di Federico Palmieri - Graffiti
Inaugurazione Sabato 17 giugno ore 18
Dal 17 giugno al 15 luglio 2017
LOCATION:Via Latina, 515
END:VEVENT
END:VCALENDAR
