BEGIN:VCALENDAR
VERSION:2.0
PRODID:-//Associazione Graffiti
CALSCALE:GREGORIAN
METHOD:PUBLISH
X-WR-CALNAME:Associazione Graffiti
X-ORIGINAL-URL:https://graffitiscuola.it/event/viaggio-fotografico-estivo-iran-agosto-2017/
X-WR-CALDESC:Viaggio Fotografico Estivo in IRAN &#8211; Dal 2 al 14 Agosto 2017
BEGIN:VEVENT
DTSTART:20170802T110000
DTEND:20170814T000000
SUMMARY:Viaggio Fotografico Estivo in IRAN &#8211; Dal 2 al 14 Agosto 2017
DESCRIPTION:Viaggio Fotografico Estivo - Reportage in IRAN - Dal 2 al 14 Agosto 2017
LOCATION:
END:VEVENT
END:VCALENDAR
