BEGIN:VCALENDAR
VERSION:2.0
PRODID:-//Associazione Graffiti
CALSCALE:GREGORIAN
METHOD:PUBLISH
X-WR-CALNAME:Associazione Graffiti
X-ORIGINAL-URL:https://graffitiscuola.it/event/inaugurazione-mostra-fotografica-unusual-visions-emiliano-pinnizzotto-museo-pigorini/
X-WR-CALDESC:Mostra Fotografica &#8220;Unusual Visions&#8221; di Emiliano Pinnizzotto presso il Museo delle Civiltà &#8211; Museo L. Pigorini fino al 18 Giugno
BEGIN:VEVENT
DTSTART:20170520T170000
DTEND:20170520T220000
SUMMARY:Mostra Fotografica &#8220;Unusual Visions&#8221; di Emiliano Pinnizzotto presso il Museo delle Civiltà &#8211; Museo L. Pigorini fino al 18 Giugno
DESCRIPTION:Mostra Fotografica "Unusual Visions" di Emiliano Pinnizzotto presso il Museo delle Civiltà - Museo Luigi Pigorini
Inaugurazione Sabato 20 maggio 2017 ore 17
Mostra dal 20 maggio al 18 giugno 2017
LOCATION:Piazza Guglielmo Marconi, 14 - Roma
END:VEVENT
END:VCALENDAR
