BEGIN:VCALENDAR
VERSION:2.0
PRODID:-//Associazione Graffiti
CALSCALE:GREGORIAN
METHOD:PUBLISH
X-WR-CALNAME:Associazione Graffiti
X-ORIGINAL-URL:https://graffitiscuola.it/event/seminario-fotografia-la-percezione-visiva-cura-del-photoreporter-marco-casini/
X-WR-CALDESC:Seminario di Fotografia Graffiti &#8220;IMMAGINE E PERCEZIONE&#8221; &#8211; Mercoledì 20 marzo 2019 ore 19
BEGIN:VEVENT
DTSTART:
DTEND:
SUMMARY:Seminario di Fotografia Graffiti &#8220;IMMAGINE E PERCEZIONE&#8221; &#8211; Mercoledì 20 marzo 2019 ore 19
DESCRIPTION:SEMINARIO DI FOTOGRAFIA GRAFFITI: "IMMAGINE E PERCEZIONE" 
Mercoledì 20 marzo 2019 – ore 19
LOCATION:Via Latina, 515
END:VEVENT
END:VCALENDAR
