BEGIN:VCALENDAR
VERSION:2.0
PRODID:-//Associazione Graffiti
CALSCALE:GREGORIAN
METHOD:PUBLISH
X-WR-CALNAME:Associazione Graffiti
X-ORIGINAL-URL:https://graffitiscuola.it/event/borsa-di-studio-2012-2013/
X-WR-CALDESC:Edizione 2012/2013 Giuria: Paolo Pellegrin
BEGIN:VEVENT
DTSTART:20120101T000000
DTEND:
SUMMARY:Edizione 2012/2013 Giuria: Paolo Pellegrin
DESCRIPTION:II Edizione Borsa di Studio Graffiti "Rolando Fava"
Giurato: Paolo Pellegrin
LOCATION:Via Latina, 515
END:VEVENT
END:VCALENDAR
