BEGIN:VCALENDAR
VERSION:2.0
PRODID:-//Associazione Graffiti
CALSCALE:GREGORIAN
METHOD:PUBLISH
X-WR-CALNAME:Associazione Graffiti
X-ORIGINAL-URL:https://graffitiscuola.it/event/visita-guidata-gratuita-mostra-fotografica-viaggi-nel-quotidiano-dal-cinema-alla-realta-1966-2005-pino-settanni-domenica-14-maggio-2017-ore-11/
X-WR-CALDESC:Visita guidata gratuita: Mostra Fotografica &#8220;Viaggi nel quotidiano, dal cinema alla realtà 1966-2005&#8221; di Pino Settanni &#8211; Domenica 14 Maggio 2017 ore 11
BEGIN:VEVENT
DTSTART:20170514T110000
DTEND:20170514T130000
SUMMARY:Visita guidata gratuita: Mostra Fotografica &#8220;Viaggi nel quotidiano, dal cinema alla realtà 1966-2005&#8221; di Pino Settanni &#8211; Domenica 14 Maggio 2017 ore 11
DESCRIPTION:Visita guidata gratuita a cura del Direttore della Graffiti Gianni Pinnizzotto alla Mostra Fotografica "Viaggi nel quotidiano, dal cinema alla realtà 1966-2005" di Pino Settanni  - Domenica 14 maggio 2017 ore 11
LOCATION:Teatro dei Dioscuri al Quirinale - Via Piacenza, 1 Roma
END:VEVENT
END:VCALENDAR
