BEGIN:VCALENDAR
VERSION:2.0
PRODID:-//Associazione Graffiti
CALSCALE:GREGORIAN
METHOD:PUBLISH
X-WR-CALNAME:Associazione Graffiti
X-ORIGINAL-URL:https://graffitiscuola.it/event/visita-guidata-gratuita-mostra-fotografica-fotografa-ritrovata-vivian-maier-domenica-7-maggio-2017-ore-11/
X-WR-CALDESC:Visita guidata gratuita: Mostra Fotografica &#8220;Una fotografa ritrovata&#8221; di Vivian Maier &#8211; Domenica 7 Maggio 2017 ore 11
BEGIN:VEVENT
DTSTART:20170507T110000
DTEND:20170507T130000
SUMMARY:Visita guidata gratuita: Mostra Fotografica &#8220;Una fotografa ritrovata&#8221; di Vivian Maier &#8211; Domenica 7 Maggio 2017 ore 11
DESCRIPTION:Visita guidata gratuita a cura del Direttore della Graffiti Gianni Pinnizzotto alla Mostra Fotografica "Una fotografa ritrovata" di Vivian Maier  - Domenica 7 maggio 2017 ore 11
LOCATION:Museo di Roma in Trastevere - Piazza Sant'Egidio 1/b
END:VEVENT
END:VCALENDAR
